BEGIN:VCALENDAR
VERSION:2.0
PRODID:-//The Care Workers Charity trading as Care Workers Support - ECPv6.8.1//NONSGML v1.0//EN
CALSCALE:GREGORIAN
METHOD:PUBLISH
X-ORIGINAL-URL:https://dev.thecwc.org.uk
X-WR-CALDESC:Events for The Care Workers Charity trading as Care Workers Support
REFRESH-INTERVAL;VALUE=DURATION:PT1H
X-Robots-Tag:noindex
X-PUBLISHED-TTL:PT1H
BEGIN:VTIMEZONE
TZID:Europe/London
BEGIN:DAYLIGHT
TZOFFSETFROM:+0000
TZOFFSETTO:+0100
TZNAME:BST
DTSTART:20220327T010000
END:DAYLIGHT
BEGIN:STANDARD
TZOFFSETFROM:+0100
TZOFFSETTO:+0000
TZNAME:GMT
DTSTART:20221030T010000
END:STANDARD
END:VTIMEZONE
BEGIN:VEVENT
DTSTART;TZID=Europe/London:20221107T080000
DTEND;TZID=Europe/London:20221209T170000
DTSTAMP:20260422T102942
CREATED:20221107T153900Z
LAST-MODIFIED:20221107T154916Z
UID:12256-1667808000-1670605200@dev.thecwc.org.uk
SUMMARY:Writing Competition 2022
DESCRIPTION:It’s COMPETITION TIME here at The Care Workers’ Charity. \nWe are delighted to launch our annual writing competition this year sponsored by three of our amazing sponsors. Towergate Insurance\, Renray Healthcare Ltd and CareHomeLife. \nThe theme for our Writing Competition this year is “Health & Wellbeing” this can be used in any way you chose. Let your creativity flow. \nWe are looking for poems\, blog posts\, short stories or articles around this subject up to 750 words. All entries must come from current or retired care workers only. \n  \n1st Prize – £500 donated by Towergate Insurance  \n2nd Prize – £250 donated by Renray Healthcare  \n3rd Prize – £250 donated by CareHomeLife  \nAll entries must be received by 5pm on Friday 9th December Please send all entries to fundraising@thecwc.org.uk
URL:https://dev.thecwc.org.uk/event/writing-competition-2023/
END:VEVENT
END:VCALENDAR