BEGIN:VCALENDAR
VERSION:2.0
PRODID:-//The Care Workers Charity trading as Care Workers Support - ECPv6.8.1//NONSGML v1.0//EN
CALSCALE:GREGORIAN
METHOD:PUBLISH
X-WR-CALNAME:The Care Workers Charity trading as Care Workers Support
X-ORIGINAL-URL:https://dev.thecwc.org.uk
X-WR-CALDESC:Events for The Care Workers Charity trading as Care Workers Support
REFRESH-INTERVAL;VALUE=DURATION:PT1H
X-Robots-Tag:noindex
X-PUBLISHED-TTL:PT1H
BEGIN:VTIMEZONE
TZID:Europe/London
BEGIN:DAYLIGHT
TZOFFSETFROM:+0000
TZOFFSETTO:+0100
TZNAME:BST
DTSTART:20230326T010000
END:DAYLIGHT
BEGIN:STANDARD
TZOFFSETFROM:+0100
TZOFFSETTO:+0000
TZNAME:GMT
DTSTART:20231029T010000
END:STANDARD
END:VTIMEZONE
BEGIN:VEVENT
DTSTART;VALUE=DATE:20230519
DTEND;VALUE=DATE:20230520
DTSTAMP:20260422T025805
CREATED:20230201T093849Z
LAST-MODIFIED:20230201T093849Z
UID:13041-1684454400-1684540799@dev.thecwc.org.uk
SUMMARY:3 Peaks Trek - Lake District
DESCRIPTION:Lake District Trek – This challenge runs over just one day\, but with three peaks to tackle it’s certainly no walk in the park! Prepare for an exhausting but energising journey through the rugged and dramatic landscape of the Lake District. \nIf you’re looking for a great team builder that’ll bring your team together as you trek across the 3 peaks of the lake district then look no farther. One of our main fundraising events of the year is 3 Peaks Lake District Trek. This will take place on 19th May. If you fancy the challenge or want to bring along a team get in touch at \nfundraising@thecwc.org.uk \n#lakedistrict #trek #charityevent #event #getinvolved #threepeaks
URL:https://dev.thecwc.org.uk/event/3-peaks-trek-lake-district/
ATTACH;FMTTYPE=image/png:https://dev.thecwc.org.uk/wp-content/uploads/2023/02/Lake-District-Trek.png
END:VEVENT
END:VCALENDAR