BEGIN:VCALENDAR
VERSION:2.0
PRODID:-//The Care Workers Charity trading as Care Workers Support - ECPv6.8.1//NONSGML v1.0//EN
CALSCALE:GREGORIAN
METHOD:PUBLISH
X-ORIGINAL-URL:https://dev.thecwc.org.uk
X-WR-CALDESC:Events for The Care Workers Charity trading as Care Workers Support
REFRESH-INTERVAL;VALUE=DURATION:PT1H
X-Robots-Tag:noindex
X-PUBLISHED-TTL:PT1H
BEGIN:VTIMEZONE
TZID:Europe/London
BEGIN:DAYLIGHT
TZOFFSETFROM:+0000
TZOFFSETTO:+0100
TZNAME:BST
DTSTART:20230326T010000
END:DAYLIGHT
BEGIN:STANDARD
TZOFFSETFROM:+0100
TZOFFSETTO:+0000
TZNAME:GMT
DTSTART:20231029T010000
END:STANDARD
END:VTIMEZONE
BEGIN:VEVENT
DTSTART;TZID=Europe/London:20231106T080000
DTEND;TZID=Europe/London:20231204T170000
DTSTAMP:20260421T021117
CREATED:20231101T164228Z
LAST-MODIFIED:20231106T222819Z
UID:14878-1699257600-1701709200@dev.thecwc.org.uk
SUMMARY:Writing Competition 2023
DESCRIPTION:Writing Competition 2023\n\n\nIt’s COMPETITION TIME here at The Care Workers’ Charity.\n\n\n\nWe are delighted to launch our annual writing competition this year sponsored by three of our amazing sponsors. Access\, CarePlanner/Nourish Care and CareHomeLife. \nThe theme for our Writing Competition this year is  EMPATHY.  \nThe chosen theme can be used in any way you chose. Let your creativity flow. \nWe are looking for poems\, blog posts\, short stories or articles around this subject up to 750 words. All entries must come from current or retired care workers only. \n1st Prize – £250 donated by CareHomeLife (The winning articles will also be featured in an edition of CareHomeLifestyle\, \n2nd Prize – £100 donated by Access Health & Social Care Team \n3rd Prize – £50 donated by CarePlanner and Nourish Care \nAll entries must be received by 5pm on Monday 4th December Please send all entries to fundraising@thecwc.org.uk
URL:https://dev.thecwc.org.uk/event/writing-competition-2023-2/
ATTACH;FMTTYPE=image/png:https://dev.thecwc.org.uk/wp-content/uploads/2023/11/Writing-Competition-2023.png
END:VEVENT
END:VCALENDAR