BEGIN:VCALENDAR
VERSION:2.0
PRODID:-//The Care Workers Charity trading as Care Workers Support - ECPv6.8.1//NONSGML v1.0//EN
CALSCALE:GREGORIAN
METHOD:PUBLISH
X-ORIGINAL-URL:https://dev.thecwc.org.uk
X-WR-CALDESC:Events for The Care Workers Charity trading as Care Workers Support
REFRESH-INTERVAL;VALUE=DURATION:PT1H
X-Robots-Tag:noindex
X-PUBLISHED-TTL:PT1H
BEGIN:VTIMEZONE
TZID:Europe/London
BEGIN:DAYLIGHT
TZOFFSETFROM:+0000
TZOFFSETTO:+0100
TZNAME:BST
DTSTART:20240331T010000
END:DAYLIGHT
BEGIN:STANDARD
TZOFFSETFROM:+0100
TZOFFSETTO:+0000
TZNAME:GMT
DTSTART:20241027T010000
END:STANDARD
END:VTIMEZONE
BEGIN:VEVENT
DTSTART;TZID=Europe/London:20240108T080000
DTEND;TZID=Europe/London:20240331T170000
DTSTAMP:20260420T184505
CREATED:20240116T175524Z
LAST-MODIFIED:20240116T175621Z
UID:15314-1704700800-1711904400@dev.thecwc.org.uk
SUMMARY:Connected to Care
DESCRIPTION:[vc_row][vc_column][vc_column_text]Connected to Care!  \n  \nAbout the Event \nAt The Care Workers’ Charity\, we believe that everyone has a connection to care\, whether it’s through their work in the sector\, having a loved one benefiting from social care\, volunteering\, or simply having knowledge of the sector through friends or family. We invite businesses\, members of the public\, and celebrities to join us in showcasing how they are “Connected to Care” by sharing their personal stories. \n  \nEvent Details \nDuration: 8th January – 31st March 2024 \nLocation: Across the UK \n  \nHow it Works \nOur campaign aims to raise awareness about The Care Workers’ Charity and the incredible individuals we support. Since 2020\, we’ve provided nearly 7\,000 grants to care workers\, totaling over £4 million. The increasing number of applications reflects the ongoing cost-of-living crisis\, making your support crucial to sustaining our mission. \n  \nGet Involved \nReady to make a difference? Here’s how you can get involved: \nOn Social Media: Share video clips and posts on various social media platforms\, expressing how you are connected to care. Let the world know that social care is a vital part of our collective experience. \nUse our Twibbon here: Connected to Care – Support Campaign | Twibbon \nAcross social media we would love to see video clips and posts about how you are connected to \ncare. \nSample script would be: “My name is ________. I am connected to care because ____________. \nSocial Care is part of all of us. Please support care workers by supporting the Care Workers’ Charity” \nPlease tag us in posts and videos: \n  \nDonate: While our primary goal is awareness\, any donations are greatly appreciated. Contribute on JustGiving or visit our enthuse profile to make a difference. \n  \nFrequently Asked Questions \nHave questions about Connected to Care? Check out our FAQ Page for more information. \n  \nContact Us \nFor any inquiries or additional information\, please don’t hesitate to contact us at fundraising@thecwc.org.uk[/vc_column_text][/vc_column][/vc_row]
URL:https://dev.thecwc.org.uk/event/connected-to-care/
LOCATION:Across the UK
ATTACH;FMTTYPE=image/png:https://dev.thecwc.org.uk/wp-content/uploads/2024/01/Connected-to-Care-FB-Post.png
END:VEVENT
END:VCALENDAR