BEGIN:VCALENDAR
VERSION:2.0
PRODID:-//The Care Workers Charity trading as Care Workers Support - ECPv6.8.1//NONSGML v1.0//EN
CALSCALE:GREGORIAN
METHOD:PUBLISH
X-WR-CALNAME:The Care Workers Charity trading as Care Workers Support
X-ORIGINAL-URL:https://dev.thecwc.org.uk
X-WR-CALDESC:Events for The Care Workers Charity trading as Care Workers Support
REFRESH-INTERVAL;VALUE=DURATION:PT1H
X-Robots-Tag:noindex
X-PUBLISHED-TTL:PT1H
BEGIN:VTIMEZONE
TZID:Europe/London
BEGIN:DAYLIGHT
TZOFFSETFROM:+0000
TZOFFSETTO:+0100
TZNAME:BST
DTSTART:20240331T010000
END:DAYLIGHT
BEGIN:STANDARD
TZOFFSETFROM:+0100
TZOFFSETTO:+0000
TZNAME:GMT
DTSTART:20241027T010000
END:STANDARD
END:VTIMEZONE
BEGIN:VEVENT
DTSTART;TZID=Europe/London:20240401T090000
DTEND;TZID=Europe/London:20240430T210000
DTSTAMP:20260420T140259
CREATED:20240111T103106Z
LAST-MODIFIED:20240319T155434Z
UID:15255-1711962000-1714510800@dev.thecwc.org.uk
SUMMARY:Walkies for Care: The Care Workers’ Charity Dog Walking Month!
DESCRIPTION:About the Event \nJoin us for a month-long celebration of furry friends and philanthropy! Walkies for Care is a community-driven fundraising event dedicated to supporting The Care Workers’ Charity’s mission to promote and support the well-being of current care professionals\, recognising the invaluable work they do in providing care and support to some of the most at-risk members of society. \n  \nEvent Details \nDuration: April 2024 \nLocation: Across The UK \nGoal: Set your own distance goal 10km\, 25km\, 50km or even 100km \n  \nHow it Works \nThroughout the month of April\, dog lovers like you will lace up their trainers\, leash up their pups\, and hit the trails to make a difference. It’s as easy as 1-2-3 \n  \nGet Involved \nReady to make a difference? Here’s how you can get involved: \nRegister using the form below. \nDonate: Can’t join the walks but still want to contribute? The Care Workers Charity – JustGiving \nSpread the Word: Share this event on social media and encourage your network to join the cause! \n#walkiesforcare #thecareworkerscharity \n  \nFrequently Asked Questions \nHave questions about Walkies for Care? Check out our FAQ Page for more information. \n  \nContact Us \nFor any inquiries or additional information\, please don’t hesitate to contact us at fundraising@thecwc.org.uk \n  \nWalkies for Care April 2024 Signup Form\n\n	Notice: JavaScript is required for this content.\n\n\n    \n\n\n        \n        \n        \n  \nHere is a link to our information flyer – Download PDF
URL:https://dev.thecwc.org.uk/event/walkies-for-care-the-care-workers-charity-dog-walking-month/
LOCATION:Across the UK
ATTACH;FMTTYPE=image/png:https://dev.thecwc.org.uk/wp-content/uploads/2024/01/Walkies-For-Care.png
END:VEVENT
END:VCALENDAR