BEGIN:VCALENDAR
VERSION:2.0
PRODID:-//The Care Workers Charity trading as Care Workers Support - ECPv6.8.1//NONSGML v1.0//EN
CALSCALE:GREGORIAN
METHOD:PUBLISH
X-ORIGINAL-URL:https://dev.thecwc.org.uk
X-WR-CALDESC:Events for The Care Workers Charity trading as Care Workers Support
REFRESH-INTERVAL;VALUE=DURATION:PT1H
X-Robots-Tag:noindex
X-PUBLISHED-TTL:PT1H
BEGIN:VTIMEZONE
TZID:Europe/London
BEGIN:DAYLIGHT
TZOFFSETFROM:+0000
TZOFFSETTO:+0100
TZNAME:BST
DTSTART:20240331T010000
END:DAYLIGHT
BEGIN:STANDARD
TZOFFSETFROM:+0100
TZOFFSETTO:+0000
TZNAME:GMT
DTSTART:20241027T010000
END:STANDARD
END:VTIMEZONE
BEGIN:VEVENT
DTSTART;TZID=Europe/London:20240916T080000
DTEND;TZID=Europe/London:20240920T170000
DTSTAMP:20260420T063808
CREATED:20231213T105231Z
LAST-MODIFIED:20240718T162735Z
UID:15066-1726473600-1726851600@dev.thecwc.org.uk
SUMMARY:Welcome to Professional Care Workers Week 2024
DESCRIPTION:Celebrating Excellence in Care \nJoin us in honouring the dedicated professionals who make a difference every day. \nAbout Professional Care Workers Week \nProfessional Care Workers Week is an annual celebration dedicated to recognising the incredible contributions of care workers nationwide. In 2024\, The Care Workers’ Charity will proudly be organising the fourth annual week-long event to highlight the vital role that care workers play in our communities. \nOur Mission \nAt The Care Workers’ Charity\, we believe in championing the unsung heroes of our society—care workers who go above and beyond to provide compassionate and essential support to those in need. Professional Care Workers Week is our way of saying thank you and acknowledging the profound impact these individuals have on the lives of others. \nWhat to Expect \nInspiring Stories: Hear heartwarming stories from care workers who have impacted the lives of those they support. \nEducational panels: Engage in informative seminars designed to enhance professional knowledge and promote continuous learning in the care field. \nCommunity Building: Connect with fellow care professionals\, share experiences\, and build a supportive community that understands the challenges and triumphs of the care industry. \nHow You Can Get Involved \nSpread the Word: Share your stories and experiences on social media using the hashtag #PCWW2024. Let’s make sure the world knows the incredible impact of care workers. \nAttend Events: Join us for a week filled with engaging events\, workshops\, and activities that celebrate and empower care workers. \nSponsor Professional Care Workers’ Week: click here for more information on our sponsorship packages \nSave the Date \nProfessional Care Workers Week 2024 will occur from 16th -20th September 2024. Mark your calendar and join us in honouring the professionals who bring care\, compassion\, and dignity to those in need. \nSupport The Cause \nThe Care Workers’ Charity relies on the generosity of individuals and organisations to continue supporting care workers in times of need. Consider donating to help us make a difference in the lives of those who dedicate their lives to caring for others. \nJoin us as we celebrate\, honour\, and uplift the incredible individuals who make Professional Care Workers Week 2024 a testament to the power of compassion and dedication. \nClick here to for information about Professional Care Workers’ Week 2024
URL:https://dev.thecwc.org.uk/event/welcome-to-professional-care-workers-week-2024/
LOCATION:Across the UK
ATTACH;FMTTYPE=image/png:https://dev.thecwc.org.uk/wp-content/uploads/2024/07/2.png
END:VEVENT
END:VCALENDAR