BEGIN:VCALENDAR
VERSION:2.0
PRODID:-//The Care Workers Charity trading as Care Workers Support - ECPv6.8.1//NONSGML v1.0//EN
CALSCALE:GREGORIAN
METHOD:PUBLISH
X-ORIGINAL-URL:https://dev.thecwc.org.uk
X-WR-CALDESC:Events for The Care Workers Charity trading as Care Workers Support
REFRESH-INTERVAL;VALUE=DURATION:PT1H
X-Robots-Tag:noindex
X-PUBLISHED-TTL:PT1H
BEGIN:VTIMEZONE
TZID:Europe/London
BEGIN:DAYLIGHT
TZOFFSETFROM:+0000
TZOFFSETTO:+0100
TZNAME:BST
DTSTART:20240331T010000
END:DAYLIGHT
BEGIN:STANDARD
TZOFFSETFROM:+0100
TZOFFSETTO:+0000
TZNAME:GMT
DTSTART:20241027T010000
END:STANDARD
END:VTIMEZONE
BEGIN:VEVENT
DTSTART;TZID=Europe/London:20241118T120000
DTEND;TZID=Europe/London:20241213T170000
DTSTAMP:20260420T002955
CREATED:20240116T164357Z
LAST-MODIFIED:20241017T182955Z
UID:15306-1731931200-1734109200@dev.thecwc.org.uk
SUMMARY:Winter Prize Draw 2024
DESCRIPTION:[vc_row][vc_column][vc_column_text]Embrace winter magic with our enchanting prize draw! \n  \nAbout the Event \nGet ready to be swept away by the spirit of winter as we unveil our dazzling Winter Prize Draw! We promise a magical experience filled with extraordinary prizes that will warm your heart. As we eagerly anticipate the festive season\, mark your calendars for a chance to win incredible gifts that make winter truly special. \n  \nEvent Details \nDuration: 18th November 2024 – 13th December 2024 \nLocation: Across the UK \n  \nHow it Works \nCelebrate the festive season with a chance to win incredible prizes in our Christmas Prize Draw! \nThanks to the festive generosity of some of our amazing sponsors we have loads of great prizes to win including: \n\n£150 Picture Framing Voucher\nFortnum and Mason Thank You Hamper\n£50 Amazon Voucher\nLions Rugby Shirt\n12 bottles of Virgin Wine\n£250 Estate Planning Voucher\nAt home hot chocolate maker by Hotel Chocolate\nPersonal life coaching or mindfulness sessions\n\nNB: Prizes will be sent directly from the sponsors. We will put winners in contact with prize sponsors to arrange delivery. \nAll funds raised will support care workers who do so much for our community. \nThe CWC is dedicated to supporting care workers by providing financial and wellbeing support to these incredible frontline workers. By entering this prize draw you will help fund \n\nCrisis Grants to provide immediate assistance to care workers in need\nFree counseling sessions for care workers\nFully funded Mental Health First Aider (MHFA) Training to equip care workers with the skills and qualifications to support their colleagues.\nAdvocating for change within the care industry. Our goal is a future where care workers receive fair wages\, access to comprehensive training and career development\, and the professional and social recognition they deserve.\n\n“It’s really reassuring that carers have got somewhere looking out for them” Grant recipient\nGet Involved \nThe draw will be hosted on Crowdfunder and will be open from 12 noon on 18th November 2024 to 5pm on 13th December 2024 and we are aiming to raise £2000. You will be able to purchase a single ticket for £5\, 5 tickets for £20 or 15 tickets for £50. \nEnter the Prize Draw here! (draw opens on 18th November 2024)\nIf you are interested in donating a prize or sponsoring the draw\, please email fundraising@thecwc.org.uk. \nDownload the Winter Prize Draw poster here \nDownload the Winter Prize Draw flyer here \nPrepare to be part of a winter celebration like no other and make this season truly unforgettable! \n  \nTerms & Conditions \n\n\nEntry is open to all UK residents over the age of 18. Please note prizes can only be sent to UK addresses. Only entrys with valid contact details can win. If we are unable to contact a winner or otherwise send their prize out another winner will be chosen at random.\n\nYou can enter via Crowdfunder £5 for one entry\, £20 for 5 entries or £50 for 15. You may enter as many times as you like.\nYou can also do a FREE ENTRY by sending a postcard with CWC PRIZE DRAW and your name\, address\, mobile number and email address to CWC PRIZE DRAW\, 1 Anson Close\, Daventry\, Northamptonshire NN11 4TJ.  Please note that your postcard MUST be received at this address by no later than 5pm on 21/11/2024\nThe Care Workers’ Charity is running this Prize Draw. Charity no. 1132286 and SC048051\nThe Prize Draw will open at 12 noon on 18/11/2024 and close 5pm 13/12/2024\nOne winner will be selected for each prize.\nThe winners will be chosen at random via a live prize draw. The winner’s name will be available at time of prize draw and published on The Care Workers’ Charity social media accounts and website\nPrizes will be sent directly from the sponsors. We will put winners in contacts with prize sponsors to arrange delivery. Winners will be contacted via the donating party\, and prizes sent to UK addresses.\nFollowing the closing date\, the winner will be chosen at random and contacted before 20/12/2024. They will be contacted by email on how to claim their prize. If the winner does not respond by 8th January\, the next winner will be chosen at random and emailed within 1 week.\nPersonal data for the draw will be handled in line with our privacy policy available to view on our website event page.\n\n  \nFrequently Asked Questions \nHave questions about our winter prize draw? Check out our FAQ Page for more information. \n  \nContact Us \nFor any inquiries or additional information\, please don’t hesitate to contact us at fundraising@thecwc.org.uk[/vc_column_text][/vc_column][/vc_row]
URL:https://dev.thecwc.org.uk/event/winter-prize-draw-2024/
ATTACH;FMTTYPE=image/png:https://dev.thecwc.org.uk/wp-content/uploads/2024/01/Winter-Prize-Draw-2024-Graphics.png
END:VEVENT
END:VCALENDAR