BEGIN:VCALENDAR
VERSION:2.0
PRODID:-//The Care Workers Charity trading as Care Workers Support - ECPv6.8.1//NONSGML v1.0//EN
CALSCALE:GREGORIAN
METHOD:PUBLISH
X-WR-CALNAME:The Care Workers Charity trading as Care Workers Support
X-ORIGINAL-URL:https://dev.thecwc.org.uk
X-WR-CALDESC:Events for The Care Workers Charity trading as Care Workers Support
REFRESH-INTERVAL;VALUE=DURATION:PT1H
X-Robots-Tag:noindex
X-PUBLISHED-TTL:PT1H
BEGIN:VTIMEZONE
TZID:Europe/London
BEGIN:DAYLIGHT
TZOFFSETFROM:+0000
TZOFFSETTO:+0100
TZNAME:BST
DTSTART:20250330T010000
END:DAYLIGHT
BEGIN:STANDARD
TZOFFSETFROM:+0100
TZOFFSETTO:+0000
TZNAME:GMT
DTSTART:20251026T010000
END:STANDARD
END:VTIMEZONE
BEGIN:VEVENT
DTSTART;VALUE=DATE:20250101
DTEND;VALUE=DATE:20260101
DTSTAMP:20260419T184834
CREATED:20250114T160957Z
LAST-MODIFIED:20250114T161449Z
UID:17044-1735689600-1767225599@dev.thecwc.org.uk
SUMMARY:Ultra Challenge Series 2025
DESCRIPTION:Looking for a challenge – to test yourself\, to get in shape\, or bond with friends on a weekend adventure? If so\, an Ultra Challenge® is for you – and you don’t need to be a budding elite athlete – they’re for everyone\, take it on at your pace! Whether along stunning coastlines\, or trails through wonderful countryside\, your Ultra Challenge® will be unforgettable – with full support all the way\, camaraderie\, an amazing sense of achievement\, and all in support of The Care Workers’ Charity. \nWalk\, Jog or Run at YOUR pace on the Ultra Challenge Series event of your choice. Join 35\,000 others of all ages & take on an unforgettable Challenge in 2025! It will be rewarding\, fun\, and absolutely achievable with your resolve and determination alongside first class support. There’s regular rest stops with free food & drink\, a fully signed route\, and a great atmosphere. \nClick here to view the full list of Ultra Challenges and sign up: https://www.ultrachallenge.com/2025-events-calendar/listedcharity/
URL:https://dev.thecwc.org.uk/event/ultra-challenge-series-2025/
LOCATION:Locations throughout the UK
ATTACH;FMTTYPE=image/png:https://dev.thecwc.org.uk/wp-content/uploads/2025/01/Ultra_Challenge_Series_Logo_250_glow.png
END:VEVENT
BEGIN:VEVENT
DTSTART;VALUE=DATE:20250120
DTEND;VALUE=DATE:20250121
DTSTAMP:20260419T184834
CREATED:20241205T131929Z
LAST-MODIFIED:20250110T144833Z
UID:16769-1737331200-1737417599@dev.thecwc.org.uk
SUMMARY:Brew Monday Coffee Morning
DESCRIPTION:[vc_row][vc_column][vc_column_text] \nBrew Monday: Make the Gloomiest Day the Warmest One\nThis January\, turn Blue Monday—the “gloomiest day of the year”—into a moment of joy and connection with Brew Monday. Host or join a gathering to lift spirits and support care workers across the UK. \nWhat is Brew Monday? It’s a chance to take a break\, share a cuppa\, and make a difference. Whether it’s at work\, at home\, or in your community\, hosting a Brew Monday event is easy\, fun\, and uplifting for everyone. \nWhy Get Involved?\n\n\nBoost Your Mood: Enjoy the warmth of good company and a hot drink.\nReconnect: Catch up with friends\, family\, or colleagues.\nMake an Impact: Help raise vital funds to support care workers in need.\n\nAll it takes is a brew and a space to chat! \nBrew Monday is Monday 20th January\, but you can host anytime! \nSign Up Here!\n\n	Notice: JavaScript is required for this content.\n\n\n    \n\n\n        \n        \n         \nDownload our fundraising pack now! \nDonate Here!  \nOr connect your fundraising page to: justgiving.com/campaign/the-cwc-brew-monday \nDon’t let Blue Monday bring you down\, turn it into a day of warmth\, connection\, and positivity for you and those around you. \n[/vc_column_text][/vc_column][/vc_row]
URL:https://dev.thecwc.org.uk/event/brew-monday-coffee-morning/
ATTACH;FMTTYPE=image/png:https://dev.thecwc.org.uk/wp-content/uploads/2024/12/Brew-Monday-Social-Media.png
END:VEVENT
END:VCALENDAR