BEGIN:VCALENDAR
VERSION:2.0
PRODID:-//The Care Workers Charity trading as Care Workers Support - ECPv6.8.1//NONSGML v1.0//EN
CALSCALE:GREGORIAN
METHOD:PUBLISH
X-WR-CALNAME:The Care Workers Charity trading as Care Workers Support
X-ORIGINAL-URL:https://dev.thecwc.org.uk
X-WR-CALDESC:Events for The Care Workers Charity trading as Care Workers Support
REFRESH-INTERVAL;VALUE=DURATION:PT1H
X-Robots-Tag:noindex
X-PUBLISHED-TTL:PT1H
BEGIN:VTIMEZONE
TZID:Europe/London
BEGIN:DAYLIGHT
TZOFFSETFROM:+0000
TZOFFSETTO:+0100
TZNAME:BST
DTSTART:20250330T010000
END:DAYLIGHT
BEGIN:STANDARD
TZOFFSETFROM:+0100
TZOFFSETTO:+0000
TZNAME:GMT
DTSTART:20251026T010000
END:STANDARD
END:VTIMEZONE
BEGIN:VEVENT
DTSTART;VALUE=DATE:20250101
DTEND;VALUE=DATE:20260101
DTSTAMP:20260419T172922
CREATED:20250114T160957Z
LAST-MODIFIED:20250114T161449Z
UID:17044-1735689600-1767225599@dev.thecwc.org.uk
SUMMARY:Ultra Challenge Series 2025
DESCRIPTION:Looking for a challenge – to test yourself\, to get in shape\, or bond with friends on a weekend adventure? If so\, an Ultra Challenge® is for you – and you don’t need to be a budding elite athlete – they’re for everyone\, take it on at your pace! Whether along stunning coastlines\, or trails through wonderful countryside\, your Ultra Challenge® will be unforgettable – with full support all the way\, camaraderie\, an amazing sense of achievement\, and all in support of The Care Workers’ Charity. \nWalk\, Jog or Run at YOUR pace on the Ultra Challenge Series event of your choice. Join 35\,000 others of all ages & take on an unforgettable Challenge in 2025! It will be rewarding\, fun\, and absolutely achievable with your resolve and determination alongside first class support. There’s regular rest stops with free food & drink\, a fully signed route\, and a great atmosphere. \nClick here to view the full list of Ultra Challenges and sign up: https://www.ultrachallenge.com/2025-events-calendar/listedcharity/
URL:https://dev.thecwc.org.uk/event/ultra-challenge-series-2025/
LOCATION:Locations throughout the UK
ATTACH;FMTTYPE=image/png:https://dev.thecwc.org.uk/wp-content/uploads/2025/01/Ultra_Challenge_Series_Logo_250_glow.png
END:VEVENT
BEGIN:VEVENT
DTSTART;VALUE=DATE:20250301
DTEND;VALUE=DATE:20250401
DTSTAMP:20260419T172922
CREATED:20250128T161304Z
LAST-MODIFIED:20250211T122211Z
UID:17226-1740787200-1743465599@dev.thecwc.org.uk
SUMMARY:Words For A Cause
DESCRIPTION:This March we’re Launching Words for a Cause Month\, Care workers play an essential role in our communities\, offering compassion\, support\, and dignity to those who need it most. Yet\, their voices are often unheard\, and their challenges remain underappreciated. That’s why we’ve created Words for a Cause Month – a dedicated time to use the power of words to amplify the voices of care workers and advocate for the recognition they deserve.  \nThis month-long initiative is about storytelling\, advocacy\, and action. Through creative writing and direct communication\, we aim to highlight the value of care work\, address the challenges in the sector\, and inspire meaningful change.  \nHow You Can Get Involved \nEnter the Words for a Cause Writing Competition\nWe’re inviting all current and retired care workers to share their experiences and insights through poetry\, blog posts\, short stories\, or articles (up to 750 words). The theme is The Power of Care\, and entries should reflect the vital role care workers play in our society.  \nWhy Enter?  \n\nShare your perspective and raise awareness about care work. \nCompete for prizes including £200\, £100\, and £50 \nHave your work featured in a book collating the Top 30 contributions\, reaching a wider audience and amplifying your voice. \n\nAdvocate for Change: Write to Your Local MP\nAdvocacy doesn’t stop at storytelling. This month\, we encourage care workers and supporters to write directly to their local MPs. By sharing personal stories and highlighting the challenges the care sector faces\, we can urge policymakers to take meaningful action to support care workers.   \nWhy Write to Your MP?  \n\nPersonal stories have the power to influence and inspire action. \nRaise awareness about the critical issues in the care sector\, such as funding\, pay\, and working conditions. \nBuild momentum for change at a local and national level. \n\nHow to Get Started:  \n\nUse our letter template to help craft your message. \nInclude a personal story or example to highlight why action is needed. \nFind your MP’s contact details https://members.parliament.uk/FindYourMP. \n\nWhy Your Voice Matters \nCare workers are the backbone of our communities\, but systemic challenges often leave them undervalued and underrepresented. By combining creative expression with direct advocacy\, Words for a Cause Month empowers care workers and supporters to make their voices heard. Together\, we can shine a light on the importance of care work and advocate for a better future for everyone in the sector.  \nLet’s use the power of words to create change.  \nGet involved today – whether by writing\, advocating\, or spreading the message. 
URL:https://dev.thecwc.org.uk/event/words-for-a-cause/
LOCATION:Anywhere in the World
ATTACH;FMTTYPE=image/png:https://dev.thecwc.org.uk/wp-content/uploads/2024/01/3-1.png
END:VEVENT
BEGIN:VEVENT
DTSTART;VALUE=DATE:20250303
DTEND;VALUE=DATE:20250405
DTSTAMP:20260419T172922
CREATED:20240116T152843Z
LAST-MODIFIED:20250128T160912Z
UID:15304-1740960000-1743811199@dev.thecwc.org.uk
SUMMARY:Writing Competition 2025
DESCRIPTION:Unleash Your Creativity\, Share Your Story\nWelcome to The Care Workers Charity Annual Writing Competition\, where words become a powerful force for change. In 2025\, we proudly mark the 7th year of this inspiring event\, inviting you to explore the art of storytelling while supporting a cause close to our hearts. \nAbout the Competition\nThe Care Workers’ Charity Annual Writing Competition is a platform for care workers\, and storytellers to weave tales that resonate with the theme of compassion\, resilience\, and the human spirit. Over the past six years\, we have witnessed the incredible depth of talent within the care community\, and this year promises to be no exception. \nTheme\nThe theme for the 2025 competition is The Future of Social Care. Whether you’re a seasoned writer or just discovering the power of your words\, this is your opportunity to contribute to a narrative that celebrates care workers and their amazing work in our society. \nPrizes\nFirst Prize of £200\, sponsored by Access\nSecond Prize of £100\, sponsored by Nourish\n3rd Prize of £50\, sponsored by Chew PR \nThe top 3 entries will be publicised in The CWC Circular\, on our website and on our social media channels. Also the top 30 contributions will be published! \nHow to Participate\nStay Informed: Keep an eye on our website and social media channels for all the important news. \nCraft Your Entry: Let your creativity flow! Write a poem\, essay\, or short story that captures the essence of the theme. \n\nYour piece of writing should be up to 750 words\nYou can write a short story\, poem\, opinion or thought piece\nAll entries must be written by Care Workers\n\nSubmit Your Entry: Please submit your entry via email to fundraising@thecwc.org.uk. Please follow these guidelines: \n\nPlease attach your piece of writing as a word document (or similar programme)\nPlease write Writing Competition Submission in the email subject\nPlease include your name\, job title\, company you work for and the title of the piece of writing in the body of the email.\nPlease ensure you have submitted your deadline by 5pm on the 3rd March.\n\nImportant Dates\nSubmission Deadline: 5pm 3rd March 2025\nJudging: week commencing 10th March 2025\nWinners Announcement: week commencing 17th March 2025 \nJoin us in making the 7th year of The Care Workers Charity Annual Writing Competition a celebration of creativity\, compassion\, and the remarkable stories that connect us all. \nDownload the flyer here
URL:https://dev.thecwc.org.uk/event/writing-competition-2025/
ATTACH;FMTTYPE=image/png:https://dev.thecwc.org.uk/wp-content/uploads/2024/01/Writing-Competition-Social-Media-2025.png
END:VEVENT
END:VCALENDAR