BEGIN:VCALENDAR
VERSION:2.0
PRODID:-//The Care Workers Charity trading as Care Workers Support - ECPv6.8.1//NONSGML v1.0//EN
CALSCALE:GREGORIAN
METHOD:PUBLISH
X-ORIGINAL-URL:https://dev.thecwc.org.uk
X-WR-CALDESC:Events for The Care Workers Charity trading as Care Workers Support
REFRESH-INTERVAL;VALUE=DURATION:PT1H
X-Robots-Tag:noindex
X-PUBLISHED-TTL:PT1H
BEGIN:VTIMEZONE
TZID:Europe/London
BEGIN:DAYLIGHT
TZOFFSETFROM:+0000
TZOFFSETTO:+0100
TZNAME:BST
DTSTART:20220327T010000
END:DAYLIGHT
BEGIN:STANDARD
TZOFFSETFROM:+0100
TZOFFSETTO:+0000
TZNAME:GMT
DTSTART:20221030T010000
END:STANDARD
END:VTIMEZONE
BEGIN:VEVENT
DTSTART;VALUE=DATE:20220404
DTEND;VALUE=DATE:20220411
DTSTAMP:20260422T233532
CREATED:20220228T145326Z
LAST-MODIFIED:20220321T165615Z
UID:10368-1649030400-1649635199@dev.thecwc.org.uk
SUMMARY:Wear and Care
DESCRIPTION:[vc_row][vc_column][vc_column_text]\, donba[/vc_column_text][/vc_column][/vc_row][vc_row][vc_column][vc_custom_heading text=”Wear and Care”][/vc_column][/vc_row][vc_row][vc_column][vc_column_text]Dress Up or Dress Down for The Care Workers’ Charity on a day of your choosing between the 4th and 10th April. \nIf you’re working in the community\, in a care home\, in an office or working from home this is something that everyone can get involved in. \nYou can let everyone dress up how they want or you could pick a theme like Pyjama Day or Super heroes. Let your creativity run wild. \nAll you have to do is ask your colleagues to get involved and ask them to donate something to The Care Workers’ Charity that day. \nShare photos of your costumes with us on social media. Remember to tag @TheCareWorkers’Charity and use the hashtag #wearandcare \nGetting your money to us: \nDonate via our website here \nDonate using Enthuse or JustGiving \nIf you are sending in petty cash or a cheque please email info@thecwc.org.uk \nThank you for taking part![/vc_column_text][/vc_column][/vc_row][vc_row][vc_column][/vc_column][/vc_row]
URL:https://dev.thecwc.org.uk/event/wear-and-care/
END:VEVENT
END:VCALENDAR