BEGIN:VCALENDAR
VERSION:2.0
PRODID:-//The Care Workers Charity trading as Care Workers Support - ECPv6.8.1//NONSGML v1.0//EN
CALSCALE:GREGORIAN
METHOD:PUBLISH
X-ORIGINAL-URL:https://dev.thecwc.org.uk
X-WR-CALDESC:Events for The Care Workers Charity trading as Care Workers Support
REFRESH-INTERVAL;VALUE=DURATION:PT1H
X-Robots-Tag:noindex
X-PUBLISHED-TTL:PT1H
BEGIN:VTIMEZONE
TZID:Europe/London
BEGIN:DAYLIGHT
TZOFFSETFROM:+0000
TZOFFSETTO:+0100
TZNAME:BST
DTSTART:20230326T010000
END:DAYLIGHT
BEGIN:STANDARD
TZOFFSETFROM:+0100
TZOFFSETTO:+0000
TZNAME:GMT
DTSTART:20231029T010000
END:STANDARD
END:VTIMEZONE
BEGIN:VEVENT
DTSTART;VALUE=DATE:20230603
DTEND;VALUE=DATE:20230604
DTSTAMP:20260421T190724
CREATED:20230116T144347Z
LAST-MODIFIED:20230116T144347Z
UID:12835-1685750400-1685836799@dev.thecwc.org.uk
SUMMARY:Nightrider
DESCRIPTION:Nightrider is a fun\, exciting charity cycle ride where you can see London under the moonlit night sky\, cycling past iconic landmarks and through historic streets with 50 or 100km route options to choose from. At the finish line you’ll also enjoy a complimentary breakfast  \nTo book your place please contact us on fundraising@thecwc.org.uk 
URL:https://dev.thecwc.org.uk/event/nightrider/
ATTACH;FMTTYPE=image/png:https://dev.thecwc.org.uk/wp-content/uploads/2023/01/3rd-March-2023.png
END:VEVENT
END:VCALENDAR