BEGIN:VCALENDAR
VERSION:2.0
PRODID:-//The Care Workers Charity trading as Care Workers Support - ECPv6.8.1//NONSGML v1.0//EN
CALSCALE:GREGORIAN
METHOD:PUBLISH
X-ORIGINAL-URL:https://dev.thecwc.org.uk
X-WR-CALDESC:Events for The Care Workers Charity trading as Care Workers Support
REFRESH-INTERVAL;VALUE=DURATION:PT1H
X-Robots-Tag:noindex
X-PUBLISHED-TTL:PT1H
BEGIN:VTIMEZONE
TZID:Europe/London
BEGIN:DAYLIGHT
TZOFFSETFROM:+0000
TZOFFSETTO:+0100
TZNAME:BST
DTSTART:20230326T010000
END:DAYLIGHT
BEGIN:STANDARD
TZOFFSETFROM:+0100
TZOFFSETTO:+0000
TZNAME:GMT
DTSTART:20231029T010000
END:STANDARD
END:VTIMEZONE
BEGIN:VEVENT
DTSTART;VALUE=DATE:20230918
DTEND;VALUE=DATE:20230923
DTSTAMP:20260421T034144
CREATED:20230601T115218Z
LAST-MODIFIED:20230704T180858Z
UID:13914-1694995200-1695427199@dev.thecwc.org.uk
SUMMARY:Professional Care Workers' Week
DESCRIPTION:[vc_row][vc_column][vc_row_inner][vc_column_inner width=”1/5″][vc_single_image image=”14115″ img_size=”medium” alignment=”center”][/vc_column_inner][vc_column_inner width=”1/5″][vc_single_image image=”9638″ img_size=”medium” alignment=”center”][/vc_column_inner][vc_column_inner width=”1/5″][vc_single_image image=”11555″ img_size=”medium” alignment=”center”][/vc_column_inner][vc_column_inner width=”1/5″][vc_single_image image=”4183″ img_size=”medium” alignment=”center”][/vc_column_inner][vc_column_inner width=”1/5″][vc_single_image image=”4184″ img_size=”medium” alignment=”center”][/vc_column_inner][/vc_row_inner][vc_column_text]PCWW 2023: A week for celebrating care workers \nProfessional Care Workers’ Week is back for 2023! The Care Workers Charity is proud to host this event for the sixth year running. \nWhat is Professional Care Worker’s Week? \nIt is a celebration of care workers and the essential work they do\, created to promote awareness and raise the profile of care workers in the UK. From 18th – 22nd September we will be hosting a programme of panels and information sessions which will be delivered by care workers and care managers alongside some of the biggest names in Adult Social Care. To keep the event as accessible as possible all the talks and panels will be virtual\, so attendees can join from anywhere – and it’s completely free! \nWe encourage everyone inside and outside the sector to get involved either by attending a talk\, raising money or by hosting your own events to celebrate your colleagues. \nWhy is it called “Professional” Care Worker’s Week? \nCare is a highly skilled profession\, but on the whole care workers do not get the advantages of being seen as professionals. The fragmented system of adult social care means that care work is more often associated with low pay\, inconsistent training\, agency workers and high turnover. The current workforce crisis\, with vacancies at 165\,000 on any given day\, means we desperately need this to change. \nProfessionalisation means recognising the diverse skillset that people bring to the role and the amount of responsibility they take on. It’s about more than a qualification or certificate – it should also come with appropriate remuneration above the Real Living Wage\, ample opportunities to develop and progress\, easy movement between providers and importantly\, recognition of their immense value to society. \nFor people who draw on care and support\, professionalisation means higher levels of trust and knowing what to do if the relationship isn’t working. It means safety\, accountability and transparency. \nFor us\, Professional Care Workers’ Week is an opportunity to raise the profile of care workers in the UK and showcase the fantastic work they do\, while providing opportunities for learning and sharing best practice. \nWhat happens during Professional Care Workers’ Week? \nOver the last five years Professional Care Workers’ Week has been a fantastic focal point for our colleagues throughout the social care sector to come together and discuss the key challenges faced\, and to take stock of the incredible work of the workforce – looking at the ways we can best support them to maximise quality of care given to those who use the sectors services. \nThis year\, Professional Care Workers’ Week will shine a light on the work happening in the social care sector; exploring some of the issues faced by the workforce\, as well as those faced by the sector as a whole. Collaboration is at the heart of PCWW\, which provides a platform for people to share best practice\, experiences and to have discussions about topics such as the wellbeing of care workers\, skills of the workforce\, and cost of living crisis and ways to support care workers. \nAlongside chats\, panels and best practice sharing Professional Care Workers’ Week is primarily a celebration. A celebration of care workers across the UK who continue to support those who draw on care every day\, rain or shine\, global pandemic or not. \nWe are asking Care Providers to use this week to show appreciation for their teams by giving little tokens of thanks such as cards\, cakes\, parties\, certificates or any other way of thanking them. If you’d like to do something in your own workplace\, you can get more ideas by downloading our Information Pack. \nWe’d love to see what you all get up to so please remember to tag us on social media and use the hashtag #PCWW23 \nYou can view the full programme by following this link where you can also book your free tickets for any of the events[/vc_column_text][/vc_column][/vc_row][vc_row][vc_column]\n\n	\n		\n			\n				Professional Care Workers Week 2023\n			\n			\n			We’re not quite finished in our preparations for Professional Care Workers Week 2023 but please check back for updates soon.\n			\n	\n	\n	Close\n[vc_raw_html]JTNDc3R5bGUlM0VpbWcuYXR0YWNobWVudC1mdWxsLnNpemUtZnVsbC53cC1wb3N0LWltYWdlJTIwJTIwJTdCbWFyZ2luJTNBMHB4JTIwYXV0byU3RCUzQyUyRnN0eWxlJTNF[/vc_raw_html][/vc_column][/vc_row]
URL:https://dev.thecwc.org.uk/event/professional-care-workers-week-2/
ATTACH;FMTTYPE=image/png:https://dev.thecwc.org.uk/wp-content/uploads/2023/06/PROFESSIONAL-CARE-WORKERS-WEEK-2023.png
END:VEVENT
BEGIN:VEVENT
DTSTART;VALUE=DATE:20230922
DTEND;VALUE=DATE:20230923
DTSTAMP:20260421T034144
CREATED:20230223T184852Z
LAST-MODIFIED:20230223T184945Z
UID:13256-1695340800-1695427199@dev.thecwc.org.uk
SUMMARY:South Downs Trek
DESCRIPTION:21.2km half marathon trek along the stunning South Downs\nFully supported trekking challenge\nStunning views across the coastline\nTest your endurance with the undulating terrain of the Seven Sisters Country Park\nFinish at Beachy Head\n\n\nThis incredible coastal trek starts just outside the beautiful village of Alfriston. Your route takes you on a 21.1km loop of testing\, undulating terrain before finishing at Beachy Head. \nYou will start high up on the cliffs\, for stunning views of the coast\, before heading in-land and looping around to the Seven Sisters and finishing the trek along this most incredible stretch of cliff tops before finishing back at Beachy Head. \n\n\nPit yourself against one of the toughest challenges that the UK has to offer\, as you take on a 21.1km trek along a remote section of the South Downs National Trail. Set against the dramatic backdrop of the South Downs National Park you will put mind and body through the ultimate test\, as you tackle this serious endurance challenge. Walking this route is a serious undertaking. \nYour challenge will start from Beachy Head and from here you will begin to make your way in-land along the South Downs Way before looping back across the Seven Sisters to finish back at Beachy Head. \nDuring the challenge\, you will be led by our experienced support leaders who will be there to motivate and support you along the way. \nThe route follows the South Downs way and begins up on the cliffs above Eastbourne from where you will have fantastic views of the surrounding area before heading in-land and heading west. You will reach the Cuckmere river and follow this out to the sea before your final section takes you along the cliff tops of the Seven Sisters to the finish. \nNot for the faint-hearted\, this is a tough endurance challenge and should not be undertaken lightly\, however\, the sense of achievement is tremendous. The terrain is extremely varied and anyone undertaking this challenge should be comfortable walking similar distances. \nThis event registration is £40 and we ask that you raise a minimum for £500 for The Care Workers’ Charity
URL:https://dev.thecwc.org.uk/event/south-downs-trek/
LOCATION:South Downs\, Beachy Head\, South Downs\, BN20 7YA\, United Kingdom
ATTACH;FMTTYPE=image/png:https://dev.thecwc.org.uk/wp-content/uploads/2023/02/South-Downs-Trek.png
END:VEVENT
END:VCALENDAR