BEGIN:VCALENDAR
VERSION:2.0
PRODID:-//The Care Workers Charity trading as Care Workers Support - ECPv6.8.1//NONSGML v1.0//EN
CALSCALE:GREGORIAN
METHOD:PUBLISH
X-WR-CALNAME:The Care Workers Charity trading as Care Workers Support
X-ORIGINAL-URL:https://dev.thecwc.org.uk
X-WR-CALDESC:Events for The Care Workers Charity trading as Care Workers Support
REFRESH-INTERVAL;VALUE=DURATION:PT1H
X-Robots-Tag:noindex
X-PUBLISHED-TTL:PT1H
BEGIN:VTIMEZONE
TZID:Europe/London
BEGIN:DAYLIGHT
TZOFFSETFROM:+0000
TZOFFSETTO:+0100
TZNAME:BST
DTSTART:20230326T010000
END:DAYLIGHT
BEGIN:STANDARD
TZOFFSETFROM:+0100
TZOFFSETTO:+0000
TZNAME:GMT
DTSTART:20231029T010000
END:STANDARD
END:VTIMEZONE
BEGIN:VEVENT
DTSTART;VALUE=DATE:20231001
DTEND;VALUE=DATE:20231002
DTSTAMP:20260421T021032
CREATED:20230116T142148Z
LAST-MODIFIED:20230116T142518Z
UID:12828-1696118400-1696204799@dev.thecwc.org.uk
SUMMARY:Cardiff Half Marathon
DESCRIPTION:The Cardiff Half Marathon has grown into one of the largest and most exciting road races in the United Kingdom. It is now one of Europe’s largest half marathons and is Wales’ largest mass participation and multi-charity fundraising event. Its flat\, fast course passes all of the city’s most breathtaking scenery and iconic landmarks including Cardiff Castle\, the Principality Stadium\, Civic Centre and stunning Cardiff Bay.  \nThousands of spectators turn out to cheer on the runners in a city renowned for its sporting passion. Cardiff is a lively capital city offering unique attractions\, world-class sports stadiums\, vibrant entertainment\, waterside eateries and seemingly endless parkland.  \nIt has been awarded a Elite Road Race Label by World Athletics. \nTo book your place please contact us on fundraising@thecwc.org.uk 
URL:https://dev.thecwc.org.uk/event/cardiff-half-marathon/
ATTACH;FMTTYPE=image/png:https://dev.thecwc.org.uk/wp-content/uploads/2023/01/Royal-Parks-Half-Marathon-4.png
END:VEVENT
BEGIN:VEVENT
DTSTART;VALUE=DATE:20231008
DTEND;VALUE=DATE:20231009
DTSTAMP:20260421T021032
CREATED:20230116T143240Z
LAST-MODIFIED:20230116T143240Z
UID:12831-1696723200-1696809599@dev.thecwc.org.uk
SUMMARY:Royal Parks Half Marathon
DESCRIPTION:This stunning central London half marathon takes in some of the capital’s world-famous landmarks\, on closed roads and within four of London’s eight Royal Parks – Hyde Park\, The Green Park\, St James’s Park and Kensington Gardens.  \nTo book your place please contact us on fundraising@thecwc.org.uk 
URL:https://dev.thecwc.org.uk/event/royal-parks-half-marathon/
LOCATION:Hyde Park\, London
ATTACH;FMTTYPE=image/png:https://dev.thecwc.org.uk/wp-content/uploads/2023/01/1.png
END:VEVENT
END:VCALENDAR