BEGIN:VCALENDAR
VERSION:2.0
PRODID:-//The Care Workers Charity trading as Care Workers Support - ECPv6.8.1//NONSGML v1.0//EN
CALSCALE:GREGORIAN
METHOD:PUBLISH
X-WR-CALNAME:The Care Workers Charity trading as Care Workers Support
X-ORIGINAL-URL:https://dev.thecwc.org.uk
X-WR-CALDESC:Events for The Care Workers Charity trading as Care Workers Support
REFRESH-INTERVAL;VALUE=DURATION:PT1H
X-Robots-Tag:noindex
X-PUBLISHED-TTL:PT1H
BEGIN:VTIMEZONE
TZID:Europe/London
BEGIN:DAYLIGHT
TZOFFSETFROM:+0000
TZOFFSETTO:+0100
TZNAME:BST
DTSTART:20240331T010000
END:DAYLIGHT
BEGIN:STANDARD
TZOFFSETFROM:+0100
TZOFFSETTO:+0000
TZNAME:GMT
DTSTART:20241027T010000
END:STANDARD
END:VTIMEZONE
BEGIN:VEVENT
DTSTART;TZID=Europe/London:20240506T080000
DTEND;TZID=Europe/London:20240531T170000
DTSTAMP:20260420T093246
CREATED:20231213T132826Z
LAST-MODIFIED:20240110T142740Z
UID:15063-1714982400-1717174800@dev.thecwc.org.uk
SUMMARY:Going the Extra Mile for Care Workers’
DESCRIPTION:About the Event \nWelcome to “Going the Extra Mile” – an extraordinary fundraiser brought to you by The Care Workers’ Charity. This event celebrates the dedication\, compassion\, and tireless efforts of care workers who go above and beyond daily. \n  \nEvent Details \nDate: 6th – 31st May 2024 \nLocation: Across The UK \n  \nHow It Works \nAt The Care Workers Charity\, we believe that the people who dedicate their lives to supporting others deserve our support in return. “Going the Extra Mile” is our way of recognising and appreciating their hard work and selflessness. \nAre you a fitness fanatic? Push your limits by adding an extra mile\, or maybe even five\, to your run. Imagine the impact! \nFor those in residential care\, rally your residents\, care teams\, and loved ones for an epic Sports Day that’ll be talked about for years! \nThere are no boundaries to how you can Go the Extra Mile. Let’s make this spring unforgettable for our care workers! \n  \nGet Involved \nReady to make a difference? Here’s how you can get involved: \nRegister: No need to register\, but do let us know about your events by emailing fundraising@thecwc.org.uk \nDonate: Can’t join in but still want to contribute? The Care Workers Charity – JustGiving \nSpread the Word: Share your event on social media and encourage your network to join the cause! \n#GTEM #goingtheextramile #thecareworkerscharity \n  \nFrequently Asked Questions \nHave questions about Going The Extra Mile? Check out our FAQ Page for more information. \n  \nContact Us \nFor any inquiries or additional information\, please don’t hesitate to contact us at fundraising@thecwc.org.uk
URL:https://dev.thecwc.org.uk/event/going-the-extra-mile-for-care-workers/
LOCATION:Across the UK
ATTACH;FMTTYPE=image/png:https://dev.thecwc.org.uk/wp-content/uploads/2023/12/Going-The-Extra-Mile.png
END:VEVENT
END:VCALENDAR