BEGIN:VCALENDAR
VERSION:2.0
PRODID:-//The Care Workers Charity trading as Care Workers Support - ECPv6.8.1//NONSGML v1.0//EN
CALSCALE:GREGORIAN
METHOD:PUBLISH
X-WR-CALNAME:The Care Workers Charity trading as Care Workers Support
X-ORIGINAL-URL:https://dev.thecwc.org.uk
X-WR-CALDESC:Events for The Care Workers Charity trading as Care Workers Support
REFRESH-INTERVAL;VALUE=DURATION:PT1H
X-Robots-Tag:noindex
X-PUBLISHED-TTL:PT1H
BEGIN:VTIMEZONE
TZID:Europe/London
BEGIN:DAYLIGHT
TZOFFSETFROM:+0000
TZOFFSETTO:+0100
TZNAME:BST
DTSTART:20240331T010000
END:DAYLIGHT
BEGIN:STANDARD
TZOFFSETFROM:+0100
TZOFFSETTO:+0000
TZNAME:GMT
DTSTART:20241027T010000
END:STANDARD
END:VTIMEZONE
BEGIN:VEVENT
DTSTART;VALUE=DATE:20240620
DTEND;VALUE=DATE:20240621
DTSTAMP:20260420T080526
CREATED:20231213T103116Z
LAST-MODIFIED:20240502T111058Z
UID:15068-1718841600-1718927999@dev.thecwc.org.uk
SUMMARY:Soar For A Cause: Skydiving Fundraiser for The Care Workers' Charity!
DESCRIPTION:About the Event \nGet ready for an adrenaline-pumping experience that goes beyond the clouds. This isn’t just about free-falling from the sky; it’s about defying gravity and showing your unwavering support for care workers nationwide. Imagine the rush\, the excitement\, and the sense of accomplishment as you touch down\, knowing you’ve made a real impact. \n  \nEvent Details \nDuration: 20th June 2024 (or other possible dates in June) \nLocation: Across the UK \nGoal: £450 (Skydive is then free) \n  \nHow it Works \nThis is your chance to be a superhero for a cause. Rally your friends\, family\, and colleagues\, and let’s create a sky-high wave of support for care workers. Together\, we can make a lasting impact and ensure that those who support others receive the support they deserve. \n  \nGet Involved \nReady to make a difference? Here’s how you can get involved: \nRegister:  Book here with Skyline Events \nDonate: Can’t join the jumps but still want to contribute? The Care Workers Charity – JustGiving \nSpread the Word: Share this event on social media and encourage your network to join the cause! \n#skydive #thecareworkerscharity \n  \nFrequently Asked Questions \nHave questions about Skydive? Check out our FAQ Page for more information. \n  \nContact Us \nFor any inquiries or additional information\, please don’t hesitate to contact us at fundraising@thecwc.org.uk \n  \nHere is a link to our information flyer – Download PDF
URL:https://dev.thecwc.org.uk/event/soar-for-a-cause-skydiving-fundraiser-for-the-care-workers-charity/
LOCATION:Across the UK
ATTACH;FMTTYPE=image/png:https://dev.thecwc.org.uk/wp-content/uploads/2023/12/CWC-Skydive-Social-24.png
END:VEVENT
END:VCALENDAR