BEGIN:VCALENDAR
VERSION:2.0
PRODID:-//The Care Workers Charity trading as Care Workers Support - ECPv6.8.1//NONSGML v1.0//EN
CALSCALE:GREGORIAN
METHOD:PUBLISH
X-ORIGINAL-URL:https://dev.thecwc.org.uk
X-WR-CALDESC:Events for The Care Workers Charity trading as Care Workers Support
REFRESH-INTERVAL;VALUE=DURATION:PT1H
X-Robots-Tag:noindex
X-PUBLISHED-TTL:PT1H
BEGIN:VTIMEZONE
TZID:Europe/London
BEGIN:DAYLIGHT
TZOFFSETFROM:+0000
TZOFFSETTO:+0100
TZNAME:BST
DTSTART:20220327T010000
END:DAYLIGHT
BEGIN:STANDARD
TZOFFSETFROM:+0100
TZOFFSETTO:+0000
TZNAME:GMT
DTSTART:20221030T010000
END:STANDARD
END:VTIMEZONE
BEGIN:VEVENT
DTSTART;VALUE=DATE:20221009
DTEND;VALUE=DATE:20221010
DTSTAMP:20260423T004124
CREATED:20220510T123512Z
LAST-MODIFIED:20220607T120851Z
UID:10868-1665273600-1665359999@dev.thecwc.org.uk
SUMMARY:Royal Parks Half Marathon
DESCRIPTION:[vc_row][vc_column][/vc_column][/vc_row][vc_row][vc_column][vc_custom_heading text=”Royal Parks Half Marathon”][/vc_column][/vc_row][vc_row][vc_column][vc_column_text]The Care Workers’ Charity is lucky enough to have secured 5 spaces for the beautiful Royal Parks Half Marathon. Join the 16\,000 people that take part this stunning central London Half Marathon\, which takes in some of the capital’s world-famous landmarks on closed roads\, and four of London’s eight Royal Parks – Hyde Park\, The Green Park\, St James’s Park and Kensington Gardens. \nIf you are interested in one of the spaces please email us at fundrasing@thecwc.org.uk. Please note that places will be given on a first come first served basis. \nAlready signed up? If you are already signed up for the half marathon but would like to raise money for us please do get in touch and we can send across our fundraising pack to help with your fundraising efforts.[/vc_column_text][/vc_column][/vc_row][vc_row][vc_column][/vc_column][/vc_row]
URL:https://dev.thecwc.org.uk/event/royal-parks-half/
LOCATION:London
ATTACH;FMTTYPE=image/jpeg:https://dev.thecwc.org.uk/wp-content/uploads/2022/06/Half-Parks-Marathon-scaled.jpeg
END:VEVENT
END:VCALENDAR