BEGIN:VCALENDAR
VERSION:2.0
PRODID:-//The Care Workers Charity trading as Care Workers Support - ECPv6.8.1//NONSGML v1.0//EN
CALSCALE:GREGORIAN
METHOD:PUBLISH
X-ORIGINAL-URL:https://dev.thecwc.org.uk
X-WR-CALDESC:Events for The Care Workers Charity trading as Care Workers Support
REFRESH-INTERVAL;VALUE=DURATION:PT1H
X-Robots-Tag:noindex
X-PUBLISHED-TTL:PT1H
BEGIN:VTIMEZONE
TZID:Europe/London
BEGIN:DAYLIGHT
TZOFFSETFROM:+0000
TZOFFSETTO:+0100
TZNAME:BST
DTSTART:20210328T010000
END:DAYLIGHT
BEGIN:STANDARD
TZOFFSETFROM:+0100
TZOFFSETTO:+0000
TZNAME:GMT
DTSTART:20211031T010000
END:STANDARD
END:VTIMEZONE
BEGIN:VEVENT
DTSTART;VALUE=DATE:20211101
DTEND;VALUE=DATE:20211211
DTSTAMP:20260423T112906
CREATED:20211122T112325Z
LAST-MODIFIED:20211122T112325Z
UID:9704-1635724800-1639180799@dev.thecwc.org.uk
SUMMARY:Christmas Card Competition
DESCRIPTION:[vc_row][vc_column][vc_custom_heading text=”Christmas Card Competition ✨🎄🎅🏾 “][/vc_column][/vc_row][vc_row][vc_column][vc_column_text]We have partnered with Delphi Care Solutions on their amazing Christmas Card Campaign\, which will showcase the artistic skills of people working in social care in the UK and winning card will be sold for Christmas 2022 to raise money for The Care Workers’ Charity. \nChristmas card designs can be drawings\, paintings\, a photograph and can be any size\, either portrait or landscape. \nThe competition is open until the 10th December. Enter through this link on the Delphi website. \nThe top three designs will win a prize. \n  \n  \n[/vc_column_text][/vc_column][/vc_row][vc_row][vc_column][/vc_column][/vc_row]
URL:https://dev.thecwc.org.uk/event/christmas-card-comp-delphi/
END:VEVENT
END:VCALENDAR